BEGIN:VCALENDAR
VERSION:2.0
PRODID:-//Meagan Best - ECPv6.13.2.1//NONSGML v1.0//EN
CALSCALE:GREGORIAN
METHOD:PUBLISH
X-WR-CALNAME:Meagan Best
X-ORIGINAL-URL:https://meaganbest.com
X-WR-CALDESC:Events for Meagan Best
REFRESH-INTERVAL;VALUE=DURATION:PT1H
X-Robots-Tag:noindex
X-PUBLISHED-TTL:PT1H
BEGIN:VTIMEZONE
TZID:UTC
BEGIN:STANDARD
TZOFFSETFROM:+0000
TZOFFSETTO:+0000
TZNAME:UTC
DTSTART:20160101T000000
END:STANDARD
END:VTIMEZONE
BEGIN:VEVENT
DTSTART;TZID=UTC:20180404T080000
DTEND;TZID=UTC:20180415T170000
DTSTAMP:20260423T213120
CREATED:20180313T144205Z
LAST-MODIFIED:20180313T144205Z
UID:16073-1522828800-1523811600@meaganbest.com
SUMMARY:Gold Coast Commonwealth Games 2018
DESCRIPTION:From 4-15 April\, history will be made on the Gold Coast. \nThe Gold Coast 2018 Commonwealth Games (GC2018) will welcome more than 6\,600 athletes and team officials from 70 Commonwealth nations and territories to the Gold Coast and event cities Brisbane\, Cairns and Townsville\, to share in the celebration of sport\, entertainment and culture. \nThe largest sporting event to be staged in Australia this decade\, GC2018 will feature the largest integrated sports program in Commonwealth Games history\, comprising 18 sports and seven para-sports.
URL:https://meaganbest.com/event/gold-coast-commonwealth-games-2018/
LOCATION:Oxenford Studios\, Australia
END:VEVENT
BEGIN:VEVENT
DTSTART;TZID=UTC:20171209T080000
DTEND;TZID=UTC:20171212T200000
DTSTAMP:20260423T213120
CREATED:20171220T231700Z
LAST-MODIFIED:20171220T231713Z
UID:16062-1512806400-1513108800@meaganbest.com
SUMMARY:2017 Canadian Junior Squash Open
DESCRIPTION:
URL:https://meaganbest.com/event/2017-canadian-junior-squash-open/
LOCATION:The Club\, 253 Taylor Rd\, Ontario\, L0S 1J0\, Canada
CATEGORIES:Tournament
END:VEVENT
BEGIN:VEVENT
DTSTART;TZID=UTC:20160808T080000
DTEND;TZID=UTC:20160816T200000
DTSTAMP:20260423T213120
CREATED:20160629T194130Z
LAST-MODIFIED:20160629T194524Z
UID:15608-1470643200-1471377600@meaganbest.com
SUMMARY:Caribbean Senior Squash Championships
DESCRIPTION:As a 14 year old it is great to be ranked the top 8 in Caribbean region. I will try to be the best at this years’ Caribbean senior tournament held in Trinidad and Tobago and try to represent the best I can.
URL:https://meaganbest.com/event/senior-casa/
CATEGORIES:Tournament
END:VEVENT
BEGIN:VEVENT
DTSTART;TZID=UTC:20160716T080000
DTEND;TZID=UTC:20160725T170000
DTSTAMP:20260423T213120
CREATED:20160612T201624Z
LAST-MODIFIED:20160629T193645Z
UID:15455-1468656000-1469466000@meaganbest.com
SUMMARY:Caribbean Junior Squash Championships
DESCRIPTION:
URL:https://meaganbest.com/event/caribbean-junior-squash-championships/
LOCATION:South Sound Squash Club\, Cayman Islands\, 25 Anne Bonny Crescent\, South Sound\, Grand Cayman\, Cayman Islands
CATEGORIES:Tournament
END:VEVENT
BEGIN:VEVENT
DTSTART;TZID=UTC:20160701T080000
DTEND;TZID=UTC:20160710T170000
DTSTAMP:20260423T213120
CREATED:20160704T132649Z
LAST-MODIFIED:20160704T132649Z
UID:15779-1467360000-1468170000@meaganbest.com
SUMMARY:Junior Training Camp
DESCRIPTION:
URL:https://meaganbest.com/event/junior-training-camp/
LOCATION:Equinox Club\, WA\, United States
CATEGORIES:Training
END:VEVENT
BEGIN:VEVENT
DTSTART;TZID=UTC:20160619T080000
DTEND;TZID=UTC:20160624T170000
DTSTAMP:20260423T213120
CREATED:20160629T195032Z
LAST-MODIFIED:20160629T195135Z
UID:15610-1466323200-1466787600@meaganbest.com
SUMMARY:Elm City Training Camp
DESCRIPTION:
URL:https://meaganbest.com/event/elm-city-training-camp/
LOCATION:Yale University\, 70 Tower Parkway\, New Haven\, CT\, United States
CATEGORIES:Training
END:VEVENT
END:VCALENDAR